BEGIN:VCALENDAR
VERSION:2.0
PRODID:-//City of Neenah - ECPv6.15.14//NONSGML v1.0//EN
CALSCALE:GREGORIAN
METHOD:PUBLISH
X-WR-CALNAME:City of Neenah
X-ORIGINAL-URL:https://www.ci.neenah.wi.us
X-WR-CALDESC:Events for City of Neenah
REFRESH-INTERVAL;VALUE=DURATION:PT1H
X-Robots-Tag:noindex
X-PUBLISHED-TTL:PT1H
BEGIN:VTIMEZONE
TZID:America/Chicago
BEGIN:DAYLIGHT
TZOFFSETFROM:-0600
TZOFFSETTO:-0500
TZNAME:CDT
DTSTART:20220313T080000
END:DAYLIGHT
BEGIN:STANDARD
TZOFFSETFROM:-0500
TZOFFSETTO:-0600
TZNAME:CST
DTSTART:20221106T070000
END:STANDARD
BEGIN:DAYLIGHT
TZOFFSETFROM:-0600
TZOFFSETTO:-0500
TZNAME:CDT
DTSTART:20230312T080000
END:DAYLIGHT
BEGIN:STANDARD
TZOFFSETFROM:-0500
TZOFFSETTO:-0600
TZNAME:CST
DTSTART:20231105T070000
END:STANDARD
BEGIN:DAYLIGHT
TZOFFSETFROM:-0600
TZOFFSETTO:-0500
TZNAME:CDT
DTSTART:20240310T080000
END:DAYLIGHT
BEGIN:STANDARD
TZOFFSETFROM:-0500
TZOFFSETTO:-0600
TZNAME:CST
DTSTART:20241103T070000
END:STANDARD
END:VTIMEZONE
BEGIN:VEVENT
DTSTART;TZID=America/Chicago:20230626T180000
DTEND;TZID=America/Chicago:20230626T180000
DTSTAMP:20260425T091806
CREATED:20250221T192002Z
LAST-MODIFIED:20250221T201144Z
UID:67212-1687802400-1687802400@www.ci.neenah.wi.us
SUMMARY:CANCELLED - Finance & Personnel
DESCRIPTION:Click here to view any agendas\, minutes\, or broadcasts associated with this meeting
URL:https://www.ci.neenah.wi.us/event/cancelled-finance-personnel-17/
LOCATION:Council Chambers – Neenah City Hall
CATEGORIES:2023 Meetings,Government Meetings
END:VEVENT
BEGIN:VEVENT
DTSTART;TZID=America/Chicago:20230627T080000
DTEND;TZID=America/Chicago:20230627T080000
DTSTAMP:20260425T091806
CREATED:20250221T192003Z
LAST-MODIFIED:20250221T201144Z
UID:67213-1687852800-1687852800@www.ci.neenah.wi.us
SUMMARY:Neenah-Menasha Sewerage Commission
DESCRIPTION:Click here to view any agendas\, minutes\, or broadcasts associated with this meeting
URL:https://www.ci.neenah.wi.us/event/neenah-menasha-sewerage-commission-22/
LOCATION:Other
CATEGORIES:2023 Meetings,Government Meetings
END:VEVENT
BEGIN:VEVENT
DTSTART;TZID=America/Chicago:20230627T160000
DTEND;TZID=America/Chicago:20230627T160000
DTSTAMP:20260425T091806
CREATED:20250221T192004Z
LAST-MODIFIED:20250221T201144Z
UID:67214-1687881600-1687881600@www.ci.neenah.wi.us
SUMMARY:Liquor Licensing Review Subcommittee
DESCRIPTION:Click here to view any agendas\, minutes\, or broadcasts associated with this meeting
URL:https://www.ci.neenah.wi.us/event/liquor-licensing-review-subcommittee-6/
LOCATION:Council Chambers – Neenah City Hall
CATEGORIES:2023 Meetings,Government Meetings
END:VEVENT
BEGIN:VEVENT
DTSTART;TZID=America/Chicago:20230627T161500
DTEND;TZID=America/Chicago:20230627T161500
DTSTAMP:20260425T091806
CREATED:20250221T192004Z
LAST-MODIFIED:20250221T201145Z
UID:67215-1687882500-1687882500@www.ci.neenah.wi.us
SUMMARY:CANCELLED - Plan Commission
DESCRIPTION:Click here to view any agendas\, minutes\, or broadcasts associated with this meeting
URL:https://www.ci.neenah.wi.us/event/cancelled-plan-commission-18/
LOCATION:Hauser Room – Neenah City Hall
CATEGORIES:2023 Meetings,Government Meetings
END:VEVENT
BEGIN:VEVENT
DTSTART;TZID=America/Chicago:20230627T173000
DTEND;TZID=America/Chicago:20230627T173000
DTSTAMP:20260425T091806
CREATED:20250221T192006Z
LAST-MODIFIED:20250221T201145Z
UID:67216-1687887000-1687887000@www.ci.neenah.wi.us
SUMMARY:Neenah-Menasha Fire Rescue Joint Finance & Personnel
DESCRIPTION:Click here to view any agendas\, minutes\, or broadcasts associated with this meeting
URL:https://www.ci.neenah.wi.us/event/neenah-menasha-fire-rescue-joint-finance-personnel-27/
LOCATION:Menasha City Hall – Conference Room 132 & 133
CATEGORIES:2023 Meetings,Government Meetings
END:VEVENT
BEGIN:VEVENT
DTSTART;TZID=America/Chicago:20230627T183000
DTEND;TZID=America/Chicago:20230627T183000
DTSTAMP:20260425T091806
CREATED:20250221T192006Z
LAST-MODIFIED:20250221T201145Z
UID:67217-1687890600-1687890600@www.ci.neenah.wi.us
SUMMARY:CANCELLED - Public Services and Safety
DESCRIPTION:Click here to view any agendas\, minutes\, or broadcasts associated with this meeting
URL:https://www.ci.neenah.wi.us/event/cancelled-public-services-and-safety-9/
LOCATION:Council Chambers – Neenah City Hall
CATEGORIES:2023 Meetings,Government Meetings
END:VEVENT
BEGIN:VEVENT
DTSTART;TZID=America/Chicago:20230628T143000
DTEND;TZID=America/Chicago:20230628T143000
DTSTAMP:20260425T091806
CREATED:20250221T192007Z
LAST-MODIFIED:20250221T201145Z
UID:67218-1687962600-1687962600@www.ci.neenah.wi.us
SUMMARY:Joint Review Board
DESCRIPTION:Click here to view any agendas\, minutes\, or broadcasts associated with this meeting
URL:https://www.ci.neenah.wi.us/event/joint-review-board-3/
LOCATION:3rd Floor Conference Room – Neenah City Hall
CATEGORIES:2023 Meetings,Government Meetings
END:VEVENT
BEGIN:VEVENT
DTSTART;TZID=America/Chicago:20230628T160000
DTEND;TZID=America/Chicago:20230628T160000
DTSTAMP:20260425T091806
CREATED:20250221T192007Z
LAST-MODIFIED:20250221T201146Z
UID:67219-1687968000-1687968000@www.ci.neenah.wi.us
SUMMARY:CANCELLED - Neenah-Menasha Joint Fire Commission
DESCRIPTION:Click here to view any agendas\, minutes\, or broadcasts associated with this meeting
URL:https://www.ci.neenah.wi.us/event/cancelled-neenah-menasha-joint-fire-commission-11/
LOCATION:Menasha City Hall – Conference Room 132 & 133
CATEGORIES:2023 Meetings,Government Meetings
END:VEVENT
BEGIN:VEVENT
DTSTART;TZID=America/Chicago:20230628T173000
DTEND;TZID=America/Chicago:20230628T173000
DTSTAMP:20260425T091806
CREATED:20250221T192008Z
LAST-MODIFIED:20250221T201146Z
UID:67220-1687973400-1687973400@www.ci.neenah.wi.us
SUMMARY:Sustainable Neenah
DESCRIPTION:Click here to view any agendas\, minutes\, or broadcasts associated with this meeting
URL:https://www.ci.neenah.wi.us/event/sustainable-neenah-16/
LOCATION:Council Chambers – Neenah City Hall
CATEGORIES:2023 Meetings,Government Meetings
END:VEVENT
BEGIN:VEVENT
DTSTART;TZID=America/Chicago:20230629T123000
DTEND;TZID=America/Chicago:20230629T123000
DTSTAMP:20260425T091806
CREATED:20250221T192008Z
LAST-MODIFIED:20250221T201146Z
UID:67221-1688041800-1688041800@www.ci.neenah.wi.us
SUMMARY:Board of Public Works
DESCRIPTION:Click here to view any agendas\, minutes\, or broadcasts associated with this meeting
URL:https://www.ci.neenah.wi.us/event/board-of-public-works-41/
LOCATION:Council Chambers – Neenah City Hall
CATEGORIES:2023 Meetings,Government Meetings
END:VEVENT
BEGIN:VEVENT
DTSTART;TZID=America/Chicago:20230703T160000
DTEND;TZID=America/Chicago:20230703T160000
DTSTAMP:20260425T091806
CREATED:20250221T192009Z
LAST-MODIFIED:20250221T201146Z
UID:67222-1688400000-1688400000@www.ci.neenah.wi.us
SUMMARY:CANCELLED - Community Development Authority
DESCRIPTION:Click here to view any agendas\, minutes\, or broadcasts associated with this meeting
URL:https://www.ci.neenah.wi.us/event/cancelled-community-development-authority-17/
LOCATION:Hauser Room – Neenah City Hall
CATEGORIES:2023 Meetings,Government Meetings
END:VEVENT
BEGIN:VEVENT
DTSTART;TZID=America/Chicago:20230703T190000
DTEND;TZID=America/Chicago:20230703T190000
DTSTAMP:20260425T091806
CREATED:20250221T192009Z
LAST-MODIFIED:20250221T201147Z
UID:67223-1688410800-1688410800@www.ci.neenah.wi.us
SUMMARY:Common Council
DESCRIPTION:Click here to view any agendas\, minutes\, or broadcasts associated with this meeting
URL:https://www.ci.neenah.wi.us/event/common-council-56/
LOCATION:Other
CATEGORIES:2023 Meetings,Government Meetings
END:VEVENT
BEGIN:VEVENT
DTSTART;TZID=America/Chicago:20230704T100000
DTEND;TZID=America/Chicago:20230704T100000
DTSTAMP:20260425T091806
CREATED:20250221T192010Z
LAST-MODIFIED:20250221T201147Z
UID:67224-1688464800-1688464800@www.ci.neenah.wi.us
SUMMARY:Common Council
DESCRIPTION:Click here to view any agendas\, minutes\, or broadcasts associated with this meeting
URL:https://www.ci.neenah.wi.us/event/common-council-57/
LOCATION:Other
CATEGORIES:2023 Meetings,Government Meetings
END:VEVENT
BEGIN:VEVENT
DTSTART;TZID=America/Chicago:20230705T070000
DTEND;TZID=America/Chicago:20230705T070000
DTSTAMP:20260425T091806
CREATED:20250221T192010Z
LAST-MODIFIED:20250221T201147Z
UID:67225-1688540400-1688540400@www.ci.neenah.wi.us
SUMMARY:CANCELLED - Police Commission
DESCRIPTION:Click here to view any agendas\, minutes\, or broadcasts associated with this meeting
URL:https://www.ci.neenah.wi.us/event/cancelled-police-commission-12/
LOCATION:Neenah Police Station
CATEGORIES:2023 Meetings,Government Meetings
END:VEVENT
BEGIN:VEVENT
DTSTART;TZID=America/Chicago:20230705T183000
DTEND;TZID=America/Chicago:20230705T183000
DTSTAMP:20260425T091806
CREATED:20250221T192011Z
LAST-MODIFIED:20250221T201147Z
UID:67227-1688581800-1688581800@www.ci.neenah.wi.us
SUMMARY:Public Services and Safety
DESCRIPTION:Click here to view any agendas\, minutes\, or broadcasts associated with this meeting
URL:https://www.ci.neenah.wi.us/event/public-services-and-safety-63/
LOCATION:Council Chambers – Neenah City Hall
CATEGORIES:2023 Meetings,Government Meetings
END:VEVENT
BEGIN:VEVENT
DTSTART;TZID=America/Chicago:20230705T190000
DTEND;TZID=America/Chicago:20230705T190000
DTSTAMP:20260425T091806
CREATED:20250221T192011Z
LAST-MODIFIED:20250221T201148Z
UID:67228-1688583600-1688583600@www.ci.neenah.wi.us
SUMMARY:Common Council
DESCRIPTION:Click here to view any agendas\, minutes\, or broadcasts associated with this meeting
URL:https://www.ci.neenah.wi.us/event/common-council-58/
LOCATION:Council Chambers – Neenah City Hall
CATEGORIES:2023 Meetings,Government Meetings
END:VEVENT
BEGIN:VEVENT
DTSTART;TZID=America/Chicago:20230710T180000
DTEND;TZID=America/Chicago:20230710T180000
DTSTAMP:20260425T091806
CREATED:20250221T192012Z
LAST-MODIFIED:20250221T201148Z
UID:67229-1689012000-1689012000@www.ci.neenah.wi.us
SUMMARY:Finance & Personnel
DESCRIPTION:Click here to view any agendas\, minutes\, or broadcasts associated with this meeting
URL:https://www.ci.neenah.wi.us/event/finance-personnel-53/
LOCATION:Council Chambers – Neenah City Hall
CATEGORIES:2023 Meetings,Government Meetings
END:VEVENT
BEGIN:VEVENT
DTSTART;TZID=America/Chicago:20230711T161500
DTEND;TZID=America/Chicago:20230711T161500
DTSTAMP:20260425T091806
CREATED:20250221T192012Z
LAST-MODIFIED:20250221T201148Z
UID:67230-1689092100-1689092100@www.ci.neenah.wi.us
SUMMARY:Plan Commission
DESCRIPTION:Click here to view any agendas\, minutes\, or broadcasts associated with this meeting
URL:https://www.ci.neenah.wi.us/event/plan-commission-27/
LOCATION:Hauser Room – Neenah City Hall
CATEGORIES:2023 Meetings,Government Meetings
END:VEVENT
BEGIN:VEVENT
DTSTART;TZID=America/Chicago:20230711T183000
DTEND;TZID=America/Chicago:20230711T183000
DTSTAMP:20260425T091806
CREATED:20250221T192013Z
LAST-MODIFIED:20250221T201149Z
UID:67231-1689100200-1689100200@www.ci.neenah.wi.us
SUMMARY:Public Services and Safety
DESCRIPTION:Click here to view any agendas\, minutes\, or broadcasts associated with this meeting
URL:https://www.ci.neenah.wi.us/event/public-services-and-safety-64/
LOCATION:Hauser Room – Neenah City Hall
CATEGORIES:2023 Meetings,Government Meetings
END:VEVENT
BEGIN:VEVENT
DTSTART;TZID=America/Chicago:20230712T160000
DTEND;TZID=America/Chicago:20230712T160000
DTSTAMP:20260425T091806
CREATED:20250221T192014Z
LAST-MODIFIED:20250221T201149Z
UID:67232-1689177600-1689177600@www.ci.neenah.wi.us
SUMMARY:Neenah Arts Council
DESCRIPTION:Click here to view any agendas\, minutes\, or broadcasts associated with this meeting
URL:https://www.ci.neenah.wi.us/event/neenah-arts-council-17/
LOCATION:Council Chambers – Neenah City Hall
CATEGORIES:2023 Meetings,Government Meetings
END:VEVENT
BEGIN:VEVENT
DTSTART;TZID=America/Chicago:20230712T173000
DTEND;TZID=America/Chicago:20230712T173000
DTSTAMP:20260425T091806
CREATED:20250221T192014Z
LAST-MODIFIED:20250221T201149Z
UID:67233-1689183000-1689183000@www.ci.neenah.wi.us
SUMMARY:Landmarks Commission
DESCRIPTION:Click here to view any agendas\, minutes\, or broadcasts associated with this meeting
URL:https://www.ci.neenah.wi.us/event/landmarks-commission-23/
LOCATION:Hauser Room – Neenah City Hall
CATEGORIES:2023 Meetings,Government Meetings
END:VEVENT
BEGIN:VEVENT
DTSTART;TZID=America/Chicago:20230717T163000
DTEND;TZID=America/Chicago:20230717T163000
DTSTAMP:20260425T091806
CREATED:20250221T192015Z
LAST-MODIFIED:20250221T201149Z
UID:67234-1689611400-1689611400@www.ci.neenah.wi.us
SUMMARY:CANCELLED - Water Works Commission
DESCRIPTION:Click here to view any agendas\, minutes\, or broadcasts associated with this meeting
URL:https://www.ci.neenah.wi.us/event/cancelled-water-works-commission-4/
LOCATION:Council Chambers – Neenah City Hall
CATEGORIES:2023 Meetings,Government Meetings
END:VEVENT
BEGIN:VEVENT
DTSTART;TZID=America/Chicago:20230718T080000
DTEND;TZID=America/Chicago:20230718T080000
DTSTAMP:20260425T091806
CREATED:20250221T192015Z
LAST-MODIFIED:20250221T201150Z
UID:67235-1689667200-1689667200@www.ci.neenah.wi.us
SUMMARY:Neenah-Menasha Sewerage Commission
DESCRIPTION:Click here to view any agendas\, minutes\, or broadcasts associated with this meeting
URL:https://www.ci.neenah.wi.us/event/neenah-menasha-sewerage-commission-23/
LOCATION:Other
CATEGORIES:2023 Meetings,Government Meetings
END:VEVENT
BEGIN:VEVENT
DTSTART;TZID=America/Chicago:20230718T080000
DTEND;TZID=America/Chicago:20230718T080000
DTSTAMP:20260425T091806
CREATED:20250221T192015Z
LAST-MODIFIED:20250221T201150Z
UID:67236-1689667200-1689667200@www.ci.neenah.wi.us
SUMMARY:BID Board
DESCRIPTION:Click here to view any agendas\, minutes\, or broadcasts associated with this meeting
URL:https://www.ci.neenah.wi.us/event/bid-board-23/
LOCATION:Council Chambers – Neenah City Hall
CATEGORIES:2023 Meetings,Government Meetings
END:VEVENT
BEGIN:VEVENT
DTSTART;TZID=America/Chicago:20230719T113000
DTEND;TZID=America/Chicago:20230719T113000
DTSTAMP:20260425T091806
CREATED:20250221T192016Z
LAST-MODIFIED:20250221T201150Z
UID:67237-1689766200-1689766200@www.ci.neenah.wi.us
SUMMARY:Board of Public Works
DESCRIPTION:Click here to view any agendas\, minutes\, or broadcasts associated with this meeting
URL:https://www.ci.neenah.wi.us/event/board-of-public-works-42/
LOCATION:Hauser Room – Neenah City Hall
CATEGORIES:2023 Meetings,Government Meetings
END:VEVENT
BEGIN:VEVENT
DTSTART;TZID=America/Chicago:20230719T160000
DTEND;TZID=America/Chicago:20230719T160000
DTSTAMP:20260425T091806
CREATED:20250221T192017Z
LAST-MODIFIED:20250221T201150Z
UID:67238-1689782400-1689782400@www.ci.neenah.wi.us
SUMMARY:Library Board
DESCRIPTION:Click here to view any agendas\, minutes\, or broadcasts associated with this meeting
URL:https://www.ci.neenah.wi.us/event/library-board-30/
LOCATION:Shattuck Community Room – Neenah Public Library
CATEGORIES:2023 Meetings,Government Meetings
END:VEVENT
BEGIN:VEVENT
DTSTART;TZID=America/Chicago:20230719T190000
DTEND;TZID=America/Chicago:20230719T190000
DTSTAMP:20260425T091806
CREATED:20250221T192017Z
LAST-MODIFIED:20250221T201151Z
UID:67239-1689793200-1689793200@www.ci.neenah.wi.us
SUMMARY:Public Hearing
DESCRIPTION:Click here to view any agendas\, minutes\, or broadcasts associated with this meeting
URL:https://www.ci.neenah.wi.us/event/public-hearing-10/
LOCATION:Council Chambers – Neenah City Hall
CATEGORIES:2023 Meetings,Government Meetings
END:VEVENT
BEGIN:VEVENT
DTSTART;TZID=America/Chicago:20230719T190000
DTEND;TZID=America/Chicago:20230719T190000
DTSTAMP:20260425T091806
CREATED:20250221T192018Z
LAST-MODIFIED:20250221T201151Z
UID:67240-1689793200-1689793200@www.ci.neenah.wi.us
SUMMARY:Public Hearing
DESCRIPTION:Click here to view any agendas\, minutes\, or broadcasts associated with this meeting
URL:https://www.ci.neenah.wi.us/event/public-hearing-11/
LOCATION:Council Chambers – Neenah City Hall
CATEGORIES:2023 Meetings,Government Meetings
END:VEVENT
BEGIN:VEVENT
DTSTART;TZID=America/Chicago:20230719T190000
DTEND;TZID=America/Chicago:20230719T190000
DTSTAMP:20260425T091806
CREATED:20250221T192018Z
LAST-MODIFIED:20250221T201151Z
UID:67241-1689793200-1689793200@www.ci.neenah.wi.us
SUMMARY:Common Council
DESCRIPTION:Click here to view any agendas\, minutes\, or broadcasts associated with this meeting
URL:https://www.ci.neenah.wi.us/event/common-council-59/
LOCATION:Council Chambers – Neenah City Hall
CATEGORIES:2023 Meetings,Government Meetings
END:VEVENT
BEGIN:VEVENT
DTSTART;TZID=America/Chicago:20230720T090000
DTEND;TZID=America/Chicago:20230720T090000
DTSTAMP:20260425T091806
CREATED:20250221T192019Z
LAST-MODIFIED:20250221T201152Z
UID:67242-1689843600-1689843600@www.ci.neenah.wi.us
SUMMARY:Committee On Aging
DESCRIPTION:Click here to view any agendas\, minutes\, or broadcasts associated with this meeting
URL:https://www.ci.neenah.wi.us/event/committee-on-aging-22/
LOCATION:Hauser Room – Neenah City Hall
CATEGORIES:2023 Meetings,Government Meetings
END:VEVENT
END:VCALENDAR